BEGIN:VCALENDAR
VERSION:2.0
CALSCALE:GREGORIAN
PRODID:-//Diputació de Barcelona//DibaCMS//EN
BEGIN:VEVENT
UID:3226
DTSTAMP:20260422T173836
DTSTART:20260426T173000
DTEND:20260426T193000
SUMMARY:50è aniversari Amics de Balenyà
LOCATION:Gra d'Or 
METHOD:PUBLISH
X-WR-CALNAME:balenya@diba.cat
X-WR-TIMEZONE:Europe/Madrid
DESCRIPTION:
URI:https://www.balenya.cat/actualitat/agenda/50e-aniversari-amics-de-balenya.html
CLASS:PUBLIC
END:VEVENT
END:VCALENDAR
