BEGIN:VCALENDAR
VERSION:2.0
CALSCALE:GREGORIAN
PRODID:-//Diputació de Barcelona//DibaCMS//EN
BEGIN:VEVENT
UID:3145
DTSTAMP:20260426T050110
DTSTART:20260201T180000
DTEND:20260201T180000
SUMMARY:Teatre: Vuit dones de Robert Thomas
LOCATION:Teatre Municipal l’Ateneu 
METHOD:PUBLISH
X-WR-CALNAME:balenya@diba.cat
X-WR-TIMEZONE:Europe/Madrid
DESCRIPTION:Organitza: Grup de Teatre Balenyà-Ateneu

URI:https://www.balenya.cat/actualitat/agenda/3145-teatre-vuit-dones-de-robert-thomas.html
CLASS:PUBLIC
END:VEVENT
END:VCALENDAR
