BEGIN:VCALENDAR
VERSION:2.0
CALSCALE:GREGORIAN
PRODID:-//Diputació de Barcelona//DibaCMS//EN
BEGIN:VEVENT
UID:3143
DTSTAMP:20260426T040149
DTSTART:20260125T173000
DTEND:20260125T173000
SUMMARY:Projecció del Documental: Miralles La pel·lícula pretén ser un retrat de l’arquitecte Enric Miralles i de tot el seu procés creatiu, entre altres de molt importants l’edifici de La Pista de Balenyà.
LOCATION:Teatre Municipal l’Ateneu 
METHOD:PUBLISH
X-WR-CALNAME:balenya@diba.cat
X-WR-TIMEZONE:Europe/Madrid
DESCRIPTION:Organitza: Regidoria de Cultura

URI:https://www.balenya.cat/actualitat/agenda/projeccio-del-documental-miralles-la-pellicula-preten-ser-un-retrat-de-larquitecte-enric-miralles-i-de-tot-el-seu-proces-creatiu-entre-altres-de-molt-importants-ledifici-de-la-pista-de-balenya.html
CLASS:PUBLIC
END:VEVENT
END:VCALENDAR
