BEGIN:VCALENDAR
VERSION:2.0
CALSCALE:GREGORIAN
PRODID:-//Diputació de Barcelona//DibaCMS//EN
BEGIN:VEVENT
UID:3142
DTSTAMP:20260426T054854
DTSTART:20260125T110000
DTEND:20260125T110000
SUMMARY:Ballada i exhibicions de Country
LOCATION:Lloc: Sala Polivalent La Pista 
METHOD:PUBLISH
X-WR-CALNAME:balenya@diba.cat
X-WR-TIMEZONE:Europe/Madrid
DESCRIPTION:Organitza: Associació Country Osona

URI:https://www.balenya.cat/actualitat/agenda/ballada-i-exhibicions-de-country.html
CLASS:PUBLIC
END:VEVENT
END:VCALENDAR
