BEGIN:VCALENDAR
VERSION:2.0
CALSCALE:GREGORIAN
PRODID:-//Diputació de Barcelona//DibaCMS//EN
BEGIN:VEVENT
UID:3141
DTSTAMP:20260426T034609
DTSTART:20260124T220000
DTEND:20260124T220000
SUMMARY:Concert amb el grup Somboits
LOCATION:Sala Polivalent La Pista 
METHOD:PUBLISH
X-WR-CALNAME:balenya@diba.cat
X-WR-TIMEZONE:Europe/Madrid
DESCRIPTION:Organitza: Regidoria de Festes

URI:https://www.balenya.cat/actualitat/agenda/concert-amb-el-grup-somboits.html
CLASS:PUBLIC
END:VEVENT
END:VCALENDAR
