BEGIN:VCALENDAR
VERSION:2.0
CALSCALE:GREGORIAN
PRODID:-//Diputació de Barcelona//DibaCMS//EN
BEGIN:VEVENT
UID:3139
DTSTAMP:20260426T034825
DTSTART:20260124T180000
DTEND:20260124T180000
SUMMARY:Teatre: Vuit dones de Robert Thomas
LOCATION:Lloc: Teatre Municipal l’Ateneu 
METHOD:PUBLISH
X-WR-CALNAME:balenya@diba.cat
X-WR-TIMEZONE:Europe/Madrid
DESCRIPTION:Organitza: Grup de Teatre Balenyà-Ateneu

URI:https://www.balenya.cat/actualitat/agenda/teatre-vuit-dones-de-robert-thomas.html
CLASS:PUBLIC
END:VEVENT
END:VCALENDAR
