BEGIN:VCALENDAR
VERSION:2.0
CALSCALE:GREGORIAN
PRODID:-//Diputació de Barcelona//DibaCMS//EN
BEGIN:VEVENT
UID:3138
DTSTAMP:20260426T040226
DTSTART:20260123T203000
DTEND:20260123T203000
SUMMARY:Estrena de l’obra de teatre Vuit dones de Robert Thomas
LOCATION:Teatre Municipal l’Ateneu 
METHOD:PUBLISH
X-WR-CALNAME:balenya@diba.cat
X-WR-TIMEZONE:Europe/Madrid
DESCRIPTION:Organitza: Grup de Teatre Balenyà-Ateneu

URI:https://www.balenya.cat/actualitat/agenda/estrena-de-lobra-de-teatre-vuit-dones-de-robert-thomas.html
CLASS:PUBLIC
END:VEVENT
END:VCALENDAR
