BEGIN:VCALENDAR
VERSION:2.0
CALSCALE:GREGORIAN
PRODID:-//Diputació de Barcelona//DibaCMS//EN
BEGIN:VEVENT
UID:3137
DTSTAMP:20260426T040058
DTSTART:20260123T170000
DTEND:20260123T170000
SUMMARY:Hora del Conte: El cargol que volia veure nevar. A càrrec de Marta Cruz de Clau de Conte
LOCATION:Sala Polivalent La Pista 
METHOD:PUBLISH
X-WR-CALNAME:balenya@diba.cat
X-WR-TIMEZONE:Europe/Madrid
DESCRIPTION:Organitza: Biblioteca el Drac

URI:https://www.balenya.cat/actualitat/agenda/hora-del-conte-el-cargol-que-volia-veure-nevar-a-carrec-de-marta-cruz-de-clau-de-conte.html
CLASS:PUBLIC
END:VEVENT
END:VCALENDAR
