BEGIN:VCALENDAR
VERSION:2.0
CALSCALE:GREGORIAN
PRODID:-//Diputació de Barcelona//DibaCMS//EN
BEGIN:VEVENT
UID:3135
DTSTAMP:20260426T020813
DTSTART:20260121T170000
DTEND:20260121T170000
SUMMARY:Espectacle de titelles: Palla, fusta i pedra de la companyia Galiot Teatre.
LOCATION:Sala Polivalent de La Pista 
METHOD:PUBLISH
X-WR-CALNAME:balenya@diba.cat
X-WR-TIMEZONE:Europe/Madrid
DESCRIPTION:Organitza: Regidoria de Festes

URI:https://www.balenya.cat/actualitat/agenda/espectacle-de-titelles-palla-fusta-i-pedra-de-la-companyia-galiot-teatre.html
CLASS:PUBLIC
END:VEVENT
END:VCALENDAR
