BEGIN:VCALENDAR
VERSION:2.0
CALSCALE:GREGORIAN
PRODID:-//Diputació de Barcelona//DibaCMS//EN
BEGIN:VEVENT
UID:2793
DTSTAMP:20260422T082919
DTSTART:20250510T100000
DTEND:20250511T030000
SUMMARY:11a Mostra d'Entitats i 14a Fira de la Cervesa 
LOCATION:
METHOD:PUBLISH
X-WR-CALNAME:balenya@diba.cat
X-WR-TIMEZONE:Europe/Madrid
DESCRIPTION:
URI:https://www.balenya.cat/actualitat/agenda/11a-mostra-dentitats-i-14a-fira-de-la-cervesa-.html
CLASS:PUBLIC
END:VEVENT
END:VCALENDAR
